BEGIN:VCALENDAR
VERSION:2.0
PRODID:-//hacksw/handcal//NONSGML v1.0//EN
BEGIN:VEVENT
SUMMARY:Coupe de Normandie de Softball Mixte
UID:c9bf93f3-2ad5-40e8-9b4d-0e01690659ba
DTSTART:20260425T080000Z
DTEND:20260425T150000Z
LOCATION:Caen - Terrain Avenue du 19 Mars 1962 14123 ifs
CATEGORIES:Sportif
STATUS:
DESCRIPTION:<p>La Ligue de Normandie de Baseball Softball et
 Baseball5 Baseball, en collaboration avec les Phenix de Caen, vous
 donne rendez-vous pour une grande journee de softball !
 🔥</p>
 
 <div> </div>
 
 <div>📅 Samedi 25 avril</div>
 
 <div>📍
 Complexe de la Grace de Dieu – Caen</div>
 
 <div> </div>
 
 <div>De
 10h a 17h, 6 equipes normandes s’affronteront dans un tournoi mixte
 place sous le signe du sport et de la convivialite
 💪</div>
 
 <div> </div>
 
 <div>👉 Les equipes participantes
 :</div>
 
 <div>🔸 Les Phenix de Caen (equipe hote)</div>
 
 <div>🔸
 Les Huskies de Rouen</div>
 
 <div>🔸 Les Wallabies de
 Louviers</div>
 
 <div>🔸 Les Seagulls de Cherbourg</div>
 
 <div>🔸
 Les Sailors du Havre</div>
 
 <div>🔸 Les Leopards de
 Saint-Gilles</div>
 
 <div> </div>
 
 <div>🎉 Ambiance conviviale
 garantie</div>
 
 <div>🍔 Buvette & restauration sur
 place</div>
 
 <div> </div>
 
 <div>👉 Venez encourager les equipes et
 decouvrir le softball ! 🙌</div>
URL;VALUE=URI:https://www.normandiebaseballsoftball.com/evenements/2026/04/25/coupe-de-normandie-de-softball-mixte-2442794
END:VEVENT
END:VCALENDAR
